BEGIN:VCALENDAR
VERSION:2.0
PRODID:-//Lachs &amp; Moritz - ECPv6.15.20//NONSGML v1.0//EN
CALSCALE:GREGORIAN
METHOD:PUBLISH
X-ORIGINAL-URL:https://lachsundmoritz.de
X-WR-CALDESC:Veranstaltungen für Lachs &amp; Moritz
REFRESH-INTERVAL;VALUE=DURATION:PT1H
X-Robots-Tag:noindex
X-PUBLISHED-TTL:PT1H
BEGIN:VTIMEZONE
TZID:Europe/Berlin
BEGIN:DAYLIGHT
TZOFFSETFROM:+0100
TZOFFSETTO:+0200
TZNAME:CEST
DTSTART:20240331T010000
END:DAYLIGHT
BEGIN:STANDARD
TZOFFSETFROM:+0200
TZOFFSETTO:+0100
TZNAME:CET
DTSTART:20241027T010000
END:STANDARD
BEGIN:DAYLIGHT
TZOFFSETFROM:+0100
TZOFFSETTO:+0200
TZNAME:CEST
DTSTART:20250330T010000
END:DAYLIGHT
BEGIN:STANDARD
TZOFFSETFROM:+0200
TZOFFSETTO:+0100
TZNAME:CET
DTSTART:20251026T010000
END:STANDARD
BEGIN:DAYLIGHT
TZOFFSETFROM:+0100
TZOFFSETTO:+0200
TZNAME:CEST
DTSTART:20260329T010000
END:DAYLIGHT
BEGIN:STANDARD
TZOFFSETFROM:+0200
TZOFFSETTO:+0100
TZNAME:CET
DTSTART:20261025T010000
END:STANDARD
END:VTIMEZONE
BEGIN:VEVENT
DTSTART;TZID=Europe/Berlin:20251213T130000
DTEND;TZID=Europe/Berlin:20251213T210000
DTSTAMP:20260420T073641
CREATED:20251207T072845Z
LAST-MODIFIED:20251207T073559Z
UID:1037-1765630800-1765659600@lachsundmoritz.de
SUMMARY:(Glüh)Wein im Hof
DESCRIPTION:Wein im Hof – Wir feiern den Frühling				\n				\n				\n				\n									🗓 Datum: 25.04.2026🕐 Uhrzeit: 13–21 Uhr📍 Ort: Riedstraße 4\, 60388 Frankfurt (Bergen-Enkheim) Es geht schon wieder los!  Einfach kommen\, genießen und den Tag bei guter Stimmung verbringen – das ist Wein im Hof. Von 13 bis 21 Uhr laden wir euch herzlich zu einem geselligen Beisammensein ein. Freut euch auf eine feine Auswahl erlesener Weine aus Rheinhessen und weitere kühle Getränke – für jeden Geschmack ist etwas dabei. Kulinarisch begleiten euch kleine Leckereien\, liebevoll zubereitet\, perfekt zum Wein. Dazu gibt’s Musik\, entspannte Atmosphäre und nette Menschen. Kein Eintritt\, keine Reservierung – einfach vorbeikommen\, mit Freunden oder spontan\, und den Frühling im Hof genießen. Wir freuen uns auf euch! 								\n				\n				\n				\n					\n	\n		\n\n	\n	Zum Kalender hinzufügen	\n		\n	\n\n		\n			\n									\n	Google Kalender\n\n									\n	iCalendar\n\n									\n	Outlook 365\n\n									\n	Outlook Live\n\n							\n		\n\n		\n	\n\n				\n				\n					\n				\n					\n				\n		\n					\n		\n				\n				\n					\n	\n	Mo & Deniz\n	\n	\n\n	Telefon:\n					\n			+4917661779588			\n	 \n\n\n	\n\n	Website:Veranstalter-Website anzeigen \n\n\n	\n	E-Mail:\n					\n			lachsundmoritz@gmail.com			\n	 \n\n\n\n				\n				\n				\n		\n				\n				\n					\n				\n				\n	\n	Lachs & Moritz\n	\n	\n\nRiedstraße 4\n	\n		\n		Frankfurt-Bergen-Enkheim\,\n\n	Hessen\n\n	60388\n\n	Germany\n\n\n\n\n	Google Karte anzeigen \n\n\n	\n					\n						\n	 \n\n\n	\n	 \n\n\n\n	\n\n\n\n		\n	\n				\n				\n				\n					\n				\n		\n					\n				\n				\n					\n	« Alle Veranstaltungen
URL:https://lachsundmoritz.de/event/gluehwein-im-hof/
LOCATION:Lachs & Moritz\, Riedstraße 4\, Frankfurt-Bergen-Enkheim\, Hessen\, 60388\, Germany
CATEGORIES:Öffentliche Veranstaltung
ORGANIZER;CN="Mo & Deniz":MAILTO:lachsundmoritz@gmail.com
END:VEVENT
BEGIN:VEVENT
DTSTART;TZID=Europe/Berlin:20251122T130000
DTEND;TZID=Europe/Berlin:20251122T210000
DTSTAMP:20260420T073641
CREATED:20250805T184518Z
LAST-MODIFIED:20260303T104156Z
UID:842-1763816400-1763845200@lachsundmoritz.de
SUMMARY:Winterglühen Tag 2
DESCRIPTION:Wein im Hof – Wir feiern den Frühling				\n				\n				\n				\n									🗓 Datum: 25.04.2026🕐 Uhrzeit: 13–21 Uhr📍 Ort: Riedstraße 4\, 60388 Frankfurt (Bergen-Enkheim) Es geht schon wieder los!  Einfach kommen\, genießen und den Tag bei guter Stimmung verbringen – das ist Wein im Hof. Von 13 bis 21 Uhr laden wir euch herzlich zu einem geselligen Beisammensein ein. Freut euch auf eine feine Auswahl erlesener Weine aus Rheinhessen und weitere kühle Getränke – für jeden Geschmack ist etwas dabei. Kulinarisch begleiten euch kleine Leckereien\, liebevoll zubereitet\, perfekt zum Wein. Dazu gibt’s Musik\, entspannte Atmosphäre und nette Menschen. Kein Eintritt\, keine Reservierung – einfach vorbeikommen\, mit Freunden oder spontan\, und den Frühling im Hof genießen. Wir freuen uns auf euch! 								\n				\n				\n				\n					\n	\n		\n\n	\n	Zum Kalender hinzufügen	\n		\n	\n\n		\n			\n									\n	Google Kalender\n\n									\n	iCalendar\n\n									\n	Outlook 365\n\n									\n	Outlook Live\n\n							\n		\n\n		\n	\n\n				\n				\n					\n				\n					\n				\n		\n					\n		\n				\n				\n					\n	\n	Mo & Deniz\n	\n	\n					\n			+4917661779588			\n	 \n\n\n	Veranstalter-Website anzeigen \n\n\n	\n					\n			lachsundmoritz@gmail.com			\n	 \n\n\n\n				\n				\n				\n		\n				\n				\n					\n				\n				\n	\n	Lachs & Moritz\n	\n	\n\nRiedstraße 4\n	\n		\n		Frankfurt-Bergen-Enkheim\,\n\n	Hessen\n\n	60388\n\n	Germany\n\n\n\n\n	Google Karte anzeigen \n\n\n	\n					\n						\n	 \n\n\n	\n	 \n\n\n\n	\n\n\n\n		\n	\n				\n				\n				\n					\n				\n		\n					\n				\n				\n					\n	« Alle Veranstaltungen
URL:https://lachsundmoritz.de/event/wintergluehen-2/
LOCATION:Lachs & Moritz\, Riedstraße 4\, Frankfurt-Bergen-Enkheim\, Hessen\, 60388\, Germany
CATEGORIES:Öffentliche Veranstaltung
ATTACH;FMTTYPE=image/jpeg:https://lachsundmoritz.de/wp-content/uploads/2026/03/lachs_und_moritz_shooting_mo_03-scaled.jpg
ORGANIZER;CN="Mo & Deniz":MAILTO:lachsundmoritz@gmail.com
END:VEVENT
BEGIN:VEVENT
DTSTART;TZID=Europe/Berlin:20251121T160000
DTEND;TZID=Europe/Berlin:20251121T210000
DTSTAMP:20260420T073641
CREATED:20250805T184441Z
LAST-MODIFIED:20250805T185320Z
UID:840-1763740800-1763758800@lachsundmoritz.de
SUMMARY:Winterglühen Tag 1
DESCRIPTION:Wein im Hof – Wir feiern den Frühling				\n				\n				\n				\n									🗓 Datum: 25.04.2026🕐 Uhrzeit: 13–21 Uhr📍 Ort: Riedstraße 4\, 60388 Frankfurt (Bergen-Enkheim) Es geht schon wieder los!  Einfach kommen\, genießen und den Tag bei guter Stimmung verbringen – das ist Wein im Hof. Von 13 bis 21 Uhr laden wir euch herzlich zu einem geselligen Beisammensein ein. Freut euch auf eine feine Auswahl erlesener Weine aus Rheinhessen und weitere kühle Getränke – für jeden Geschmack ist etwas dabei. Kulinarisch begleiten euch kleine Leckereien\, liebevoll zubereitet\, perfekt zum Wein. Dazu gibt’s Musik\, entspannte Atmosphäre und nette Menschen. Kein Eintritt\, keine Reservierung – einfach vorbeikommen\, mit Freunden oder spontan\, und den Frühling im Hof genießen. Wir freuen uns auf euch! 								\n				\n				\n				\n					\n	\n		\n\n	\n	Zum Kalender hinzufügen	\n		\n	\n\n		\n			\n									\n	Google Kalender\n\n									\n	iCalendar\n\n									\n	Outlook 365\n\n									\n	Outlook Live\n\n							\n		\n\n		\n	\n\n				\n				\n					\n				\n					\n				\n		\n					\n		\n				\n				\n					\n	\n	Mo & Deniz\n	\n	\n					\n			+4917661779588			\n	 \n\n\n	Veranstalter-Website anzeigen \n\n\n	\n					\n			lachsundmoritz@gmail.com			\n	 \n\n\n\n				\n				\n				\n		\n				\n				\n					\n				\n				\n	\n	Lachs & Moritz\n	\n	\n\nRiedstraße 4\n	\n		\n		Frankfurt-Bergen-Enkheim\,\n\n	Hessen\n\n	60388\n\n	Germany\n\n\n\n\n	Google Karte anzeigen \n\n\n	\n					\n						\n	 \n\n\n	\n	 \n\n\n\n	\n\n\n\n		\n	\n				\n				\n				\n					\n				\n		\n					\n				\n				\n					\n	« Alle Veranstaltungen
URL:https://lachsundmoritz.de/event/wintergluehen/
LOCATION:Lachs & Moritz\, Riedstraße 4\, Frankfurt-Bergen-Enkheim\, Hessen\, 60388\, Germany
CATEGORIES:Öffentliche Veranstaltung
ORGANIZER;CN="Mo & Deniz":MAILTO:lachsundmoritz@gmail.com
END:VEVENT
BEGIN:VEVENT
DTSTART;TZID=Europe/Berlin:20251003T160000
DTEND;TZID=Europe/Berlin:20251003T200000
DTSTAMP:20260420T073641
CREATED:20250805T185448Z
LAST-MODIFIED:20250928T091644Z
UID:855-1759507200-1759521600@lachsundmoritz.de
SUMMARY:Liveräuchern zum 10-Jährigen  bestehen
DESCRIPTION:Wein im Hof – Wir feiern den Frühling				\n				\n				\n				\n									🗓 Datum: 25.04.2026🕐 Uhrzeit: 13–21 Uhr📍 Ort: Riedstraße 4\, 60388 Frankfurt (Bergen-Enkheim) Es geht schon wieder los!  Einfach kommen\, genießen und den Tag bei guter Stimmung verbringen – das ist Wein im Hof. Von 13 bis 21 Uhr laden wir euch herzlich zu einem geselligen Beisammensein ein. Freut euch auf eine feine Auswahl erlesener Weine aus Rheinhessen und weitere kühle Getränke – für jeden Geschmack ist etwas dabei. Kulinarisch begleiten euch kleine Leckereien\, liebevoll zubereitet\, perfekt zum Wein. Dazu gibt’s Musik\, entspannte Atmosphäre und nette Menschen. Kein Eintritt\, keine Reservierung – einfach vorbeikommen\, mit Freunden oder spontan\, und den Frühling im Hof genießen. Wir freuen uns auf euch! 								\n				\n				\n				\n					\n	\n		\n\n	\n	Zum Kalender hinzufügen	\n		\n	\n\n		\n			\n									\n	Google Kalender\n\n									\n	iCalendar\n\n									\n	Outlook 365\n\n									\n	Outlook Live\n\n							\n		\n\n		\n	\n\n				\n				\n					\n				\n					\n				\n		\n					\n		\n				\n				\n					\n	\n	Mo & Deniz\n	\n	\n					\n			+4917661779588			\n	 \n\n\n	Veranstalter-Website anzeigen \n\n\n	\n					\n			lachsundmoritz@gmail.com			\n	 \n\n\n\n				\n				\n				\n		\n				\n				\n					\n				\n				\n	\n	Lachs & Moritz\n	\n	\n\nRiedstraße 4\n	\n		\n		Frankfurt-Bergen-Enkheim\,\n\n	Hessen\n\n	60388\n\n	Germany\n\n\n\n\n	Google Karte anzeigen \n\n\n	\n					\n						\n	 \n\n\n	\n	 \n\n\n\n	\n\n\n\n		\n	\n				\n				\n				\n					\n				\n		\n					\n				\n				\n					\n	« Alle Veranstaltungen
URL:https://lachsundmoritz.de/event/privatfeier-20-jahre-abitur/
LOCATION:Lachs & Moritz\, Riedstraße 4\, Frankfurt-Bergen-Enkheim\, Hessen\, 60388\, Germany
CATEGORIES:Öffentliche Veranstaltung
ORGANIZER;CN="Mo & Deniz":MAILTO:lachsundmoritz@gmail.com
END:VEVENT
BEGIN:VEVENT
DTSTART;TZID=Europe/Berlin:20250913T130000
DTEND;TZID=Europe/Berlin:20250913T210000
DTSTAMP:20260420T073641
CREATED:20250826T182001Z
LAST-MODIFIED:20250827T052506Z
UID:1011-1757768400-1757797200@lachsundmoritz.de
SUMMARY:Wein im Hof
DESCRIPTION:Wein im Hof – Wir feiern den Frühling				\n				\n				\n				\n									🗓 Datum: 25.04.2026🕐 Uhrzeit: 13–21 Uhr📍 Ort: Riedstraße 4\, 60388 Frankfurt (Bergen-Enkheim) Es geht schon wieder los!  Einfach kommen\, genießen und den Tag bei guter Stimmung verbringen – das ist Wein im Hof. Von 13 bis 21 Uhr laden wir euch herzlich zu einem geselligen Beisammensein ein. Freut euch auf eine feine Auswahl erlesener Weine aus Rheinhessen und weitere kühle Getränke – für jeden Geschmack ist etwas dabei. Kulinarisch begleiten euch kleine Leckereien\, liebevoll zubereitet\, perfekt zum Wein. Dazu gibt’s Musik\, entspannte Atmosphäre und nette Menschen. Kein Eintritt\, keine Reservierung – einfach vorbeikommen\, mit Freunden oder spontan\, und den Frühling im Hof genießen. Wir freuen uns auf euch! 								\n				\n				\n				\n					\n	\n		\n\n	\n	Zum Kalender hinzufügen	\n		\n	\n\n		\n			\n									\n	Google Kalender\n\n									\n	iCalendar\n\n									\n	Outlook 365\n\n									\n	Outlook Live\n\n							\n		\n\n		\n	\n\n				\n				\n					\n				\n					\n				\n		\n					\n		\n				\n				\n					\n	\n	Mo & Deniz\n	\n	\n					\n			+4917661779588			\n	 \n\n\n	Veranstalter-Website anzeigen \n\n\n	\n					\n			lachsundmoritz@gmail.com			\n	 \n\n\n\n				\n				\n				\n		\n				\n				\n					\n				\n				\n	\n	Lachs & Moritz\n	\n	\n\nRiedstraße 4\n	\n		\n		Frankfurt-Bergen-Enkheim\,\n\n	Hessen\n\n	60388\n\n	Germany\n\n\n\n\n	Google Karte anzeigen \n\n\n	\n					\n						\n	 \n\n\n	\n	 \n\n\n\n	\n\n\n\n		\n	\n				\n				\n				\n					\n				\n		\n					\n				\n				\n					\n	« Alle Veranstaltungen
URL:https://lachsundmoritz.de/event/wein-im-hof-beispielveranstaltung/
LOCATION:Lachs & Moritz\, Riedstraße 4\, Frankfurt-Bergen-Enkheim\, Hessen\, 60388\, Germany
CATEGORIES:Öffentliche Veranstaltung
ORGANIZER;CN="Mo & Deniz":MAILTO:lachsundmoritz@gmail.com
END:VEVENT
BEGIN:VEVENT
DTSTART;TZID=Europe/Berlin:20250823T130000
DTEND;TZID=Europe/Berlin:20250823T210000
DTSTAMP:20260420T073641
CREATED:20250805T182047Z
LAST-MODIFIED:20250805T185325Z
UID:822-1755954000-1755982800@lachsundmoritz.de
SUMMARY:Wein im Hof
DESCRIPTION:Wein im Hof – Wir feiern den Frühling				\n				\n				\n				\n									🗓 Datum: 25.04.2026🕐 Uhrzeit: 13–21 Uhr📍 Ort: Riedstraße 4\, 60388 Frankfurt (Bergen-Enkheim) Es geht schon wieder los!  Einfach kommen\, genießen und den Tag bei guter Stimmung verbringen – das ist Wein im Hof. Von 13 bis 21 Uhr laden wir euch herzlich zu einem geselligen Beisammensein ein. Freut euch auf eine feine Auswahl erlesener Weine aus Rheinhessen und weitere kühle Getränke – für jeden Geschmack ist etwas dabei. Kulinarisch begleiten euch kleine Leckereien\, liebevoll zubereitet\, perfekt zum Wein. Dazu gibt’s Musik\, entspannte Atmosphäre und nette Menschen. Kein Eintritt\, keine Reservierung – einfach vorbeikommen\, mit Freunden oder spontan\, und den Frühling im Hof genießen. Wir freuen uns auf euch! 								\n				\n				\n				\n					\n	\n		\n\n	\n	Zum Kalender hinzufügen	\n		\n	\n\n		\n			\n									\n	Google Kalender\n\n									\n	iCalendar\n\n									\n	Outlook 365\n\n									\n	Outlook Live\n\n							\n		\n\n		\n	\n\n				\n				\n					\n				\n					\n				\n		\n					\n		\n				\n				\n					\n	\n	Mo & Deniz\n	\n	\n					\n			+4917661779588			\n	 \n\n\n	Veranstalter-Website anzeigen \n\n\n	\n					\n			lachsundmoritz@gmail.com			\n	 \n\n\n\n				\n				\n				\n		\n				\n				\n					\n				\n				\n	\n	Lachs & Moritz\n	\n	\n\nRiedstraße 4\n	\n		\n		Frankfurt-Bergen-Enkheim\,\n\n	Hessen\n\n	60388\n\n	Germany\n\n\n\n\n	Google Karte anzeigen \n\n\n	\n					\n						\n	 \n\n\n	\n	 \n\n\n\n	\n\n\n\n		\n	\n				\n				\n				\n					\n				\n		\n					\n				\n				\n					\n	« Alle Veranstaltungen
URL:https://lachsundmoritz.de/event/wein-im-hof/
LOCATION:Lachs & Moritz\, Riedstraße 4\, Frankfurt-Bergen-Enkheim\, Hessen\, 60388\, Germany
CATEGORIES:Öffentliche Veranstaltung
ORGANIZER;CN="Mo & Deniz":MAILTO:lachsundmoritz@gmail.com
END:VEVENT
END:VCALENDAR